BEGIN:VCALENDAR
VERSION:2.0
PRODID:-//USS Missouri (BB-63) Association - ECPv6.15.20//NONSGML v1.0//EN
CALSCALE:GREGORIAN
METHOD:PUBLISH
X-WR-CALNAME:USS Missouri (BB-63) Association
X-ORIGINAL-URL:https://ussmissouriassociation.com
X-WR-CALDESC:Events for USS Missouri (BB-63) Association
REFRESH-INTERVAL;VALUE=DURATION:PT1H
X-Robots-Tag:noindex
X-PUBLISHED-TTL:PT1H
BEGIN:VTIMEZONE
TZID:UTC
BEGIN:STANDARD
TZOFFSETFROM:+0000
TZOFFSETTO:+0000
TZNAME:UTC
DTSTART:20230101T000000
END:STANDARD
END:VTIMEZONE
BEGIN:VEVENT
DTSTART;VALUE=DATE:20240305
DTEND;VALUE=DATE:20240306
DTSTAMP:20260425T101642
CREATED:20231219T001415Z
LAST-MODIFIED:20231219T001415Z
UID:1009-1709596800-1709683199@ussmissouriassociation.com
SUMMARY:Seabee Birthday
DESCRIPTION:
URL:https://ussmissouriassociation.com/event/seabee-birthday/
END:VEVENT
END:VCALENDAR