BEGIN:VCALENDAR
VERSION:2.0
PRODID:-//USS Missouri (BB-63) Association - ECPv6.15.20//NONSGML v1.0//EN
CALSCALE:GREGORIAN
METHOD:PUBLISH
X-ORIGINAL-URL:https://ussmissouriassociation.com
X-WR-CALDESC:Events for USS Missouri (BB-63) Association
REFRESH-INTERVAL;VALUE=DURATION:PT1H
X-Robots-Tag:noindex
X-PUBLISHED-TTL:PT1H
BEGIN:VTIMEZONE
TZID:UTC
BEGIN:STANDARD
TZOFFSETFROM:+0000
TZOFFSETTO:+0000
TZNAME:UTC
DTSTART:20220101T000000
END:STANDARD
END:VTIMEZONE
BEGIN:VEVENT
DTSTART;VALUE=DATE:20231207
DTEND;VALUE=DATE:20231208
DTSTAMP:20260421T121849
CREATED:20231219T002628Z
LAST-MODIFIED:20231219T002628Z
UID:1136-1701907200-1701993599@ussmissouriassociation.com
SUMMARY:Pearl Harbor Day
DESCRIPTION:
URL:https://ussmissouriassociation.com/event/pearl-harbor-day/
END:VEVENT
BEGIN:VEVENT
DTSTART;VALUE=DATE:20231213
DTEND;VALUE=DATE:20231214
DTSTAMP:20260421T121849
CREATED:20231219T002645Z
LAST-MODIFIED:20231219T002645Z
UID:1139-1702425600-1702511999@ussmissouriassociation.com
SUMMARY:National Guard Birthday
DESCRIPTION:
URL:https://ussmissouriassociation.com/event/national-guard-birthday/
END:VEVENT
BEGIN:VEVENT
DTSTART;VALUE=DATE:20231220
DTEND;VALUE=DATE:20231221
DTSTAMP:20260421T121849
CREATED:20231219T002703Z
LAST-MODIFIED:20231219T002703Z
UID:1142-1703030400-1703116799@ussmissouriassociation.com
SUMMARY:Space Force Birthday
DESCRIPTION:
URL:https://ussmissouriassociation.com/event/space-force-birthday/
END:VEVENT
END:VCALENDAR